BEGIN:VCALENDAR
VERSION:2.0
CALSCALE:GREGORIAN
PRODID:-//MyApp//Calendar 1.0//EN
BEGIN:VEVENT
METHOD:PUBLISH
UID:57513@regionalniportaly.cz
DTSTAMP:20260420T052015Z
DTSTART;VALUE=DATE:20260529
DTEND;VALUE=DATE:20260530
SUMMARY:Kabát revival Plzeň
DESCRIPTION:Rocková noc pod širým nebem s kapelou Kabát revival Plzeň.Čtyřhodinová rocková show v areálu letního kina Háječek - Heřmaničky.Kapela Kabát revival Plzeň byla založena roku 2006 zpěvákem Markem Vondryskou a za dobu své existence se z ní stal jeden z nejuznávanějších revivalů v České republice . Původní přednes písní kapely Kabát v originálních aranžích a tóninách\, technická dokonalost podpořena vždy výborným zvukařem– to vše Kabát revival Plzeň charakterizuje. Uskutečnil víc než na tisícpětset koncertů po celé ČR\, mnohé z nich po rockových festivalech\, firemních akcí\, oslav. Aktuálně hrajeme skladby i z posledního vydaného alba a celý repertoár tak tvoří na 50 písní.V podání zpěváka Marka Vondrysky si poslechneme zásadní věci slavných originálů\, které do nás muzikanti začnou pumpovat s prvními akordy rockového večírku. Přijďte se pobavit\, zatančit či zazpívat známé skladby i vy\, určitě se bude na co dívat\, co poslouchat.Složení kapely:Marek Vondryska – zpěvMilan Vítek – basa/zpěvPavel „Bezrucci“ Vébr – kytara/zpěvVáclav Pop – kytara/zpěvVladimír Hořký - bicí
LOCATION:Heřmaničky
END:VEVENT
END:VCALENDAR