BEGIN:VCALENDAR
VERSION:2.0
CALSCALE:GREGORIAN
PRODID:-//MyApp//Calendar 1.0//EN
BEGIN:VEVENT
METHOD:PUBLISH
UID:58265@regionalniportaly.cz
DTSTAMP:20260422T085401Z
DTSTART;VALUE=DATE:20251011
DTEND;VALUE=DATE:20251012
SUMMARY:Podzimní výlet pro děti s přespáním
DESCRIPTION:Prázdniny už jsou za námi\, nový školní rok se rozbíhá\, a to je ideální čas na společný podzimní výlet. Opět bude stát za to! Čeká nás spousta zážitků\, her\, legrace\, nových přátelství a letos také dobrodružná cesta a krásná procházka Prahou\, kterou zpestří úžasná úniková hra.\nA jako každý rok\, i letos nás čeká přespávačka. Tentokrát v gymnastické tělocvičně GYMPRA. Strávit noc v tělocvičně? To je přeci sen každého dobrodruha!\n \nCo nás čeká?víkend plný her\, soutěží a dobrodružstvíprocházka Prahou se speciálním překvapenímnová přátelství a spousty legracenoční zážitek v podobě přespávačky\nPraktické informaceKdy: 11.–12. říjnaCena: 1 300 Kč (včetně jídla na celý víkend\, pitného režimu\, přespání\, cestovného\, odměn a překvapení)Sraz: v sobotu 11. října v 9:00 na Dobříši\nKapacita je omezená\, proto doporučujeme neváhat s přihláškou!Více informací najdete na www.veselarodina.org nebo kontaktujte přímo Sáru na e-mailu info@veselarodina.org či tel. čísle: 736 229 236. Rodičům přihlášených dětí zašleme před výletem e-mail s podrobnými informacemi.
LOCATION:Dobříš
END:VEVENT
END:VCALENDAR