BEGIN:VCALENDAR
VERSION:2.0
CALSCALE:GREGORIAN
PRODID:-//MyApp//Calendar 1.0//EN
BEGIN:VEVENT
METHOD:PUBLISH
UID:58699@regionalniportaly.cz
DTSTAMP:20260420T072832Z
DTSTART;VALUE=DATE:20251211
DTEND;VALUE=DATE:20251212
SUMMARY:Vánoční koncert
DESCRIPTION:VÁNOČNÍ KONCERT S KELTSKOU HARFOUPřijďte prožít kouzelný adventní večer za zvuku keltské harfy a jedinečné hudby v podání kapely&nbsp\;Bety\, Nina &amp\; Batik Boys.&nbsp\;Čeká vás jedinečný hudební zážitek v příjemné atmosféře.&nbsp\;&nbsp\;
LOCATION:Lety
END:VEVENT
END:VCALENDAR