BEGIN:VCALENDAR
VERSION:2.0
CALSCALE:GREGORIAN
PRODID:-//MyApp//Calendar 1.0//EN
BEGIN:VEVENT
METHOD:PUBLISH
UID:59259@regionalniportaly.cz
DTSTAMP:20260422T085411Z
DTSTART;VALUE=DATE:20251128
DTEND;VALUE=DATE:20251129
SUMMARY:Ivan Mládek v Loděnici
DESCRIPTION:Koncert Ivana Mládka a Banjo band v předadventním čase v Loděnici u Berouna.
LOCATION:Loděnice
END:VEVENT
END:VCALENDAR