BEGIN:VCALENDAR
VERSION:2.0
CALSCALE:GREGORIAN
PRODID:-//MyApp//Calendar 1.0//EN
BEGIN:VEVENT
METHOD:PUBLISH
UID:60366@regionalniportaly.cz
DTSTAMP:20260420T071919Z
DTSTART;VALUE=DATE:20251225
DTEND;VALUE=DATE:20251226
SUMMARY:Petr Vondráček a Lokomotiva
DESCRIPTION:Tradiční vánoční koncert Lokomotivy v Loděnici již po xté:-).
LOCATION:Loděnice
END:VEVENT
END:VCALENDAR