BEGIN:VCALENDAR
VERSION:2.0
CALSCALE:GREGORIAN
PRODID:-//MyApp//Calendar 1.0//EN
BEGIN:VEVENT
METHOD:PUBLISH
UID:60428@regionalniportaly.cz
DTSTAMP:20260420T072044Z
DTSTART;VALUE=DATE:20251214
DTEND;VALUE=DATE:20251215
SUMMARY:Kouzlo adventu
DESCRIPTION:Salon v růžích Vás srdečně &nbsp\;zve na předvánoční setkání plné elegance\, radosti a dobré energie. Zpomalte\, nadechněte se a vstupte do světa\, kde se elegance potkává s radostí a dobrým skutkem.
LOCATION:Svatá
END:VEVENT
END:VCALENDAR