BEGIN:VCALENDAR
VERSION:2.0
CALSCALE:GREGORIAN
PRODID:-//MyApp//Calendar 1.0//EN
BEGIN:VEVENT
METHOD:PUBLISH
UID:61102@regionalniportaly.cz
DTSTAMP:20260421T232800Z
DTSTART;VALUE=DATE:20270210
DTEND;VALUE=DATE:20270211
SUMMARY:Romantic Woman na zámku Dobříš
DESCRIPTION:Romantic Woman - originální seskupení zpěvaček vás zve na romantický koncert do jedinečných prostor Zámku Dobříš.Připravené hudební aranže naživo doprovodí smyčcové kvarteto a skotské dudy. V keltském stylu zazní největší světové hity jako Amazing Grace\, My Heart Will Go On\, Loch Lomond\, Nella Fantasia a mnoho dalších.Zpívají: Monika Sommerová\, Veronika Vršecká\, Jana Štěpánková a Barbora JanskáVečerem provází moderátor Honza MusilTvorba Romantic Woman je inspirovaná světově proslulým irským vokálním projektem Celtic Woman.
LOCATION:Dobříš
END:VEVENT
END:VCALENDAR