BEGIN:VCALENDAR
VERSION:2.0
CALSCALE:GREGORIAN
PRODID:-//MyApp//Calendar 1.0//EN
BEGIN:VEVENT
METHOD:PUBLISH
UID:61888@regionalniportaly.cz
DTSTAMP:20260422T104401Z
DTSTART;VALUE=DATE:20260228
DTEND;VALUE=DATE:20260301
SUMMARY:Benátský ples
DESCRIPTION:Benátský ples – Horčápsko„...bude nocí tajuplných tváří...“Srdečně vás zveme na nezapomenutelný Benátský ples\, který se uskuteční v sobotu 28. února 2026 v prostorách KD Horčápsko. Přijďte si užít večer plný elegance\, tance a tajemné atmosféry inspirované benátským karnevalem.Na co se můžete těšit?Hudba: K tanci a poslechu vám po celý večer bude hrát oblíbená hudební skupina Eleanor.Program: Čeká vás bohatá tombola se zajímavými cenami.Dresscode: Škraboška je povinný doplněk večera! Nechte svou tvář zahalenou tajemstvím a staňte se součástí magické noci.Podrobnosti o akci:Datum: 28. 2. 2026 v 19:00Místo konání: Kulturní dům (KD) HorčápskoVstupné: 200 KčPořadatelé: Akci pořádá Obec Horčápsko
LOCATION:Horčápsko
END:VEVENT
END:VCALENDAR