BEGIN:VCALENDAR
VERSION:2.0
CALSCALE:GREGORIAN
PRODID:-//MyApp//Calendar 1.0//EN
BEGIN:VEVENT
METHOD:PUBLISH
UID:62025@regionalniportaly.cz
DTSTAMP:20260420T072842Z
DTSTART;VALUE=DATE:20260408
DTEND;VALUE=DATE:20260409
SUMMARY:Ucpanej systém
DESCRIPTION:Ucpanej systém (podle povídek The Acid House Irvina Welshe) zpátky v&nbsp\;kinech!Ucpanej systém (podle povídek The Acid House Irvina Welshe) se vrací. Syrovej\, nezapomenutelnej. Tým Granton Star sehraje znovu jedinečnej zápas\, v&nbsp\;němž Bůh sedí na střídačce! Jedna z největších legend Dejvického divadla\, která více než dekádu plnila hlediště a sbírala ceny\, zažila při přímém přenosu z derniéry fenomenální úspěch: přes 30 000 diváků ve 170 kinech. Teď se její filmový záznam vrací exkluzivně 8. dubna 2026. Záznam s&nbsp\;výrazně kvalitnějším obrazem i zvukem byl navíc přestříhán a dal tak ještě více vyniknout fantastickým hereckým výkonům. Dejvické divadlo s&nbsp\;produkční společností Aerofilms se znovu spojily\, aby vám připravily neopakovatelný zážitek. Vstupenky jsou již v&nbsp\;prodeji.&nbsp\;O představeníKdyž se vám během jednoho dne po…e celý život a&nbsp\;navíc potkáte Boha v&nbsp\;hospodě\, který vám řekne\, že sice existuje\, ale že je to líná p…a\, která na&nbsp\;vše s..e\, myslíte si\, že nemůže být hůř. Ale ono může... Inscenace&nbsp\;Ucpanej systém&nbsp\;vznikla na&nbsp\;základě povídkové knihy a&nbsp\;filmového scénáře známého skotského spisovatele&nbsp\;Irvina Welshe&nbsp\;The Acid House. Smutnými hrdiny jsou mladí lidé\, kteří se nedokážou vymanit z&nbsp\;podivné bezvýchodnosti své ztracené existence. Welshovy romány a&nbsp\;povídky jsou syrově upřímné\, plné drog\, drsného jazyka a&nbsp\;fotbalu\, zkoumají temná zákoutí světa i&nbsp\;duše. Pod&nbsp\;černěhumorným povrchem anekdot se ale skrývá podstatná a&nbsp\;působivá generační výpověď.Ucpanej systém (podle povídek The Acid House Irvina Welshe) získal&nbsp\;cenu Alfréda Radoka&nbsp\;za&nbsp\;nejlepší inscenaci roku&nbsp\;2012.&nbsp\;Ivan Trojan získal cenu Alfréda Radoka 2012 v&nbsp\;kategorii mužský herecký výkon za&nbsp\;roli Boha a&nbsp\;současně byl za&nbsp\;tuto roli nominován na&nbsp\;Cenu Thálie.Režie: Michal VajdičkaRežie přímého přenosu a&nbsp\;záznamu: Jakub TaberyPřeklad: Olga BártováDivadelní adaptace: Daniel MajlingScéna a&nbsp\;kostýmy: Pavol AndraškoHudba: Marián ČekovskýDramaturgie: Daniel Majling\, Eva SukováPředpokládaná délka představení 140 minutHrají: Ivan Trojan\, Miroslav Krobot\, Václav Neužil\, Hynek Čermák \, Jaroslav Plesl\, Petr Vršek\, Martin Myšička\, Martin Pechlát\, Jana Holcová\, Klára Melíšková\, Lenka Krobotová a&nbsp\;další
LOCATION:Řevnice
END:VEVENT
END:VCALENDAR