BEGIN:VCALENDAR
VERSION:2.0
CALSCALE:GREGORIAN
PRODID:-//MyApp//Calendar 1.0//EN
BEGIN:VEVENT
METHOD:PUBLISH
UID:62059@regionalniportaly.cz
DTSTAMP:20260420T051842Z
DTSTART;VALUE=DATE:20260523
DTEND;VALUE=DATE:20260524
SUMMARY:Běhej lesy Brdy
DESCRIPTION:CHKO Brdy znamená hluboké luhy a háje bývalého Vojenského újezdu Brdy\, které byly po 70 let uzavřeny veřejnosti. Do panenské přírody a okolí nejvyššího vrcholu Tok vybíháme od vesničky Obecnice u Příbrami\, která je jen 30 minut od Prahy. Na výběr jsou trasy 5\, 12\, 22 a dětské závody. 
LOCATION:Obecnice
END:VEVENT
END:VCALENDAR