BEGIN:VCALENDAR
VERSION:2.0
CALSCALE:GREGORIAN
PRODID:-//MyApp//Calendar 1.0//EN
BEGIN:VEVENT
METHOD:PUBLISH
UID:62060@regionalniportaly.cz
DTSTAMP:20260420T054950Z
DTSTART;VALUE=DATE:20260411
DTEND;VALUE=DATE:20260412
SUMMARY:Běhej lesy Karlštejn
DESCRIPTION:Karlštejn znamená pořádné dobrodružství a terén\, který tě bude fakt bavit. Proběhneš se běžně nepřístupným lomem Velká Amerika\, užiješ si doslova královské výhledy na gotický hrad Karlštejn a pak kolem něj přímo proběhneš. Na výběr trasy 6\, 13\, 18 km a dětské závody.
LOCATION:Karlštejn
END:VEVENT
END:VCALENDAR