BEGIN:VCALENDAR
VERSION:2.0
CALSCALE:GREGORIAN
PRODID:-//MyApp//Calendar 1.0//EN
BEGIN:VEVENT
METHOD:PUBLISH
UID:62205@regionalniportaly.cz
DTSTAMP:20260420T034946Z
DTSTART;VALUE=DATE:20260215
DTEND;VALUE=DATE:20260216
SUMMARY:Veselý karneval pro celou rodinu
DESCRIPTION:Už v únoru se Kulturní dům Dobříš již po páté promění v místo plné barev\, hudby\, smíchu a rodinné zábavy. Přijďte se na jedno odpoledne ponořit do světa fantazie\, kde ožijí princezny\, superhrdinové\, zvířátka i další postavičky všeho druhu. Každá maska je vítána! Pro rodiče to samozřejmě platí také. :-)\n \nTradiční karneval nabídne bohatý program plný pohybu\, her a společné zábavy. Děti se mohou těšit na oblíbeného maskota\, živou hudbu\, hry a soutěže. Letos nebude chybět ani vyšperkovaný rodinný kvíz\, do kterého se mohou zapojit rodiče spolu s dětmi. Novinkou letošního ročníku je mimo jiné i fotokoutek\, odkud si rodiny odnesou veselou vzpomínku na společně strávené odpoledne.\nSoučástí programu bude také tanec v bublinách\, třpytivé tetování a oblíbená bohatá tombola. A protože rádi rozdáváme radost\, může se každé dítě těšit na cukrovou vatu ZDARMA\, časopis a sběratelský odznáček jako malý dárek na památku. Stejně jako v loňském roce bude na místě k dispozici drobné občerstvení k zakoupení. Pro letošní ročník jsme si připravili i popcorn.\n \nKapacita se rychle plní\, svá místa je nutná rezervovat. :-) \nRezervace a informace:\nE-mail: info@veselarodina.org\nTelefon: 736 229 236\nWeb: www.veselarodina.org\nFacebook: Veselá rodina\, z.ú.\n \nVeselý karneval je ideální příležitostí\, jak si uprostřed zimy dopřát odpoledne plné pohody\, smíchu a rodinné zábavy.\nTěšíme na Vás!
LOCATION:Dobříš
END:VEVENT
END:VCALENDAR