BEGIN:VCALENDAR
VERSION:2.0
CALSCALE:GREGORIAN
PRODID:-//MyApp//Calendar 1.0//EN
BEGIN:VEVENT
METHOD:PUBLISH
UID:62512@regionalniportaly.cz
DTSTAMP:20260420T072127Z
DTSTART;VALUE=DATE:20260214
DTEND;VALUE=DATE:20260215
SUMMARY:Petr Tomeček / Serenáda pro vyvolené
DESCRIPTION:Na svátek sv. Valentýna Vás zveme na mimořádný hudební zážitek\, který se odehraje v srdci přírody – v magickém prostředí&nbsp\;Koněpruských jeskyní.Pouze prvních třicet hostů bude mít příležitost usednout do ticha podzemních sálů a nechat se unášet tóny&nbsp\;Panovy flétny\, jejíž zvuk se rozezní v prostoru\, kde se čas i realita dají zpomalit.Pro tento jedinečný podvečer jsou&nbsp\;připraveny&nbsp\;melodie\, které v podání Panovy flétny dosud nikde nezazněly. Melodie\, které Vás obklopí a vnesou&nbsp\;do hloubi&nbsp\;Vaší duše světlo\, něhu i tajemství.Každý návštěvník bude po příchodu přivítán jemným&nbsp\;welcome drinkem\, aby se naladil na atmosféru podvečera. A aby kouzlo koncertu přetrvalo i po jeho skončení\, obdrží na cestu domů&nbsp\;láhev kvalitního&nbsp\;vína ze speciální edice\, připravené právě pro mistra Panovy flétny.Tento koncert není jen událostí\, ale&nbsp\;intimním setkáním hudby\, tajemna a duše.&nbsp\;&nbsp\;Petr Tomeček&nbsp\;(Panova flétna) patří k výrazným osobnostem české hudební scény a k výjimečným interpretům hry na Panovu flétnu. Jeho hudební projev se vyznačuje mimořádnou jemností\, kultivovaností a hlubokou emotivní silou\, s níž dokáže oslovit posluchače napříč generacemi.Zvuk Panovy flétny v jeho podání získává neobyčejnou barevnost a zpěvnost – od tichých\, meditativních poloh až po vášnivé a strhující melodie. Petr Tomeček mistrně spojuje technickou bravuru s přirozenou muzikálností a smyslem pro detail\, díky čemuž se každý jeho koncert stává jedinečným uměleckým zážitkem.Jeho interpretace se vyznačuje schopností vyprávět příběhy beze slov\, probouzet emoce a vytvářet hluboké spojení mezi hudbou a posluchačem. Právě tato citlivost a autenticita činí z Petra Tomečka umělce\, jehož hudba má sílu dotýkat se srdcí a zůstávat v paměti dlouho po doznění posledního tónu.
LOCATION:Koněprusy
END:VEVENT
END:VCALENDAR