BEGIN:VCALENDAR
VERSION:2.0
CALSCALE:GREGORIAN
PRODID:-//MyApp//Calendar 1.0//EN
BEGIN:VEVENT
METHOD:PUBLISH
UID:63148@regionalniportaly.cz
DTSTAMP:20260420T034955Z
DTSTART;VALUE=DATE:20260314
DTEND;VALUE=DATE:20260315
SUMMARY:Sousedský bál
DESCRIPTION:Srdečně zveme na 4. ročník sousedského bálu!Přijďte si užít večer plný hudby\, tance a dobré nálady.&nbsp\;K tanci a poslechu zahraje kapela Pepeto.&nbsp\;&nbsp\;Připravena bude bohatá tombola s lákavými cenami.&nbsp\;&nbsp\;Občerstvení zajištěno. Doprovodný program s velkým překvapením.Těšíme se!
LOCATION:Ořech
END:VEVENT
END:VCALENDAR