BEGIN:VCALENDAR
VERSION:2.0
CALSCALE:GREGORIAN
PRODID:-//MyApp//Calendar 1.0//EN
BEGIN:VEVENT
METHOD:PUBLISH
UID:63355@regionalniportaly.cz
DTSTAMP:20260420T053747Z
DTSTART;VALUE=DATE:20260326
DTEND;VALUE=DATE:20260327
SUMMARY:The Manžels
DESCRIPTION:
LOCATION:Kamýk nad Vltavou
END:VEVENT
END:VCALENDAR