BEGIN:VCALENDAR
VERSION:2.0
CALSCALE:GREGORIAN
PRODID:-//MyApp//Calendar 1.0//EN
BEGIN:VEVENT
METHOD:PUBLISH
UID:63428@regionalniportaly.cz
DTSTAMP:20260420T053737Z
DTSTART;VALUE=DATE:20260320
DTEND;VALUE=DATE:20260321
SUMMARY:Plavba po Vltavě aneb mohla vraždit Popelka?
DESCRIPTION:Bláznivá detektivní komedie z&nbsp\;paluby parníku\, kde se po&nbsp\;50 letech setkají pohádkové princezny\, dojde k&nbsp\;vraždě a&nbsp\;slavný detektiv Pierot musí odhalit\, kdo z&nbsp\;této pestrobarevné společnosti skrývá smrtelné tajemství.&nbsp\;Divadlo Kruh Dobříš&nbsp\;
LOCATION:Horčápsko
END:VEVENT
END:VCALENDAR