BEGIN:VCALENDAR
VERSION:2.0
CALSCALE:GREGORIAN
PRODID:-//MyApp//Calendar 1.0//EN
BEGIN:VEVENT
METHOD:PUBLISH
UID:63863@regionalniportaly.cz
DTSTAMP:20260420T055829Z
DTSTART;VALUE=DATE:20260404
DTEND;VALUE=DATE:20260405
SUMMARY:Havran Fest - Vítkovo kvarteto + Doctor P.P.
DESCRIPTION:Tradiční&nbsp\;Zahořanský Havran&nbsp\;je tady! 🦅 Přijďte si užít jedinečný večer plný skvělé muziky a nezapomenutelné atmosféry koncertu v sále obecního úřadu. Jedinečná příležitost vidět koncept jarního turné Vítkova Kvarteta a Doctora P.P. pod názvem Cirkus bude...
LOCATION:Zahořany
END:VEVENT
END:VCALENDAR