BEGIN:VCALENDAR
VERSION:2.0
CALSCALE:GREGORIAN
PRODID:-//MyApp//Calendar 1.0//EN
BEGIN:VEVENT
METHOD:PUBLISH
UID:64827@regionalniportaly.cz
DTSTAMP:20260421T194402Z
DTSTART;VALUE=DATE:20260501
DTEND;VALUE=DATE:20260502
SUMMARY:Love & Strings - Aristo Quartet
DESCRIPTION:💑 1. máj v Brně –&nbsp\;ve dvou výhodněji - kód: "PRODVA"&nbsp\;LOVE &amp\; STRINGS je koncert známých písní v aranžích pro smyčcové kvarteto.Program stojí čistě na hudbě a akustice prostoru\, bez vizuálních efektů.Zazní skladby autorů jako Coldplay\, Adele\, Ed Sheeran nebo Taylor Swift v úpravách\, které stojí na práci se zvukem\, dynamikou a akustikou prostoru.Nejde o doprovodnou hudbu\, ale o plnohodnotný koncertní program. Známé melodie fungují jinak než v originále – víc v detailu\, víc v prostoru\, víc na poslech.Sál Milosrdných bratří patří akusticky k nejlepším v Brně\, což je pro tento typ koncertu zásadní.Ideální plán na 1. máj (rande / večer ve dvou / dárek).🎓 zvýhodněné vstupné pro studenty od 350 Kč⏱️ 70 minut bez přestávky&nbsp\;🎟️ Prodej pouze online (pokladna na místě nebude)Na programu zazní:Canon in D - Johann PachelbelCounting Stars — OneRepublicMake You Feel My Love — AdeleNext To Me — Imagine DragonsPerfect — Ed SheeranSeñorita — Shawn Mendes &amp\; Camila CabelloShiver — ColdplayStay — The Kid LAROI &amp\; Justin BieberUnwritten — Natasha BedingfieldWildest Dreams — Taylor SwiftWithout You — David GuettaShallow — Lady Gaga &amp\; Bradley CooperUnconditionally — Katy PerryABBA - Gimme! Gimme! Gimme!Pořadí písní se může lišit.
LOCATION:Brno
END:VEVENT
END:VCALENDAR