BEGIN:VCALENDAR
VERSION:2.0
CALSCALE:GREGORIAN
PRODID:-//MyApp//Calendar 1.0//EN
BEGIN:VEVENT
METHOD:PUBLISH
UID:64926@regionalniportaly.cz
DTSTAMP:20260420T051717Z
DTSTART;VALUE=DATE:20260405
DTEND;VALUE=DATE:20260406
SUMMARY:68. ročník silničního běhu na 10 kilometrů - Rožmitál Březnice
DESCRIPTION:TJ Spartak ROŽMITÁL a SK BŘEZNICE pořádá 68. ročník silničního  běhu na 10 km.\n \nMísto startu: Rožmitál\, atletický stadion\nČas startu hlavního závodu: 10:30 \nStartovné: Předem - 350 Kč (jen kartou on-line a to do  3. dubna 24.00 hodin)\, na místě v den závodu do 9.30 hodin - 500 Kč\nmísto cíle: Březnice – na stadionu.\n \nParkoviště\, šatny\,  WC v místě a občerstvení zajištěno.\n \nMapu závodu si můžete prohlédnout ZDE \n \nVyhlášení výsledků proběhne  v cíli ihned po skončení závodu. Zpáteční cestu závodníků do místa startu zajišťuje autobus\, který odjíždí až po vyhlášení vítězů.(Bude informovat pořadatel).\n \nV průběhu závodu bude pro auta uzavřena ulice Sadová v úseku od křižovatky ke stadionu. K parkování je možné využít ulici  9. května ! \n \nCeny: ve finanční výši 33 000 Kč\n \npodrobné informace najdete zde.
LOCATION:Rožmitál pod Třemšínem
END:VEVENT
END:VCALENDAR