BEGIN:VCALENDAR
VERSION:2.0
CALSCALE:GREGORIAN
PRODID:-//MyApp//Calendar 1.0//EN
BEGIN:VEVENT
METHOD:PUBLISH
UID:64962@regionalniportaly.cz
DTSTAMP:20260421T150248Z
DTSTART;VALUE=DATE:20260530
DTEND;VALUE=DATE:20260531
SUMMARY:PLAY JESUS!
DESCRIPTION:PLAY JESUS!Herec a hudebník Oldřich Smysl (MdB\, All X\, Artsiders)\, vítěz ankety magazínu Musical - Opereta v kategorii muzikálový výkon sezóny 2020-2021\, zúročuje své hudebně interpretační schopnosti v unikátním projektu Play Jesus!\, v němž vzdává poctu ikonickému muzikálu A. L. Webbera Jesus Christ Superstar. V hodinové one-man show vás provede nesmrtelným příběhem posledního týdne Kristova života za vlastního doprovodu na klávesy. Divadlo\, performance nebo koncert? Přijďte posoudit sami!v původním anglickém zněnídélka cca 60 min.
LOCATION:Brno
END:VEVENT
END:VCALENDAR