BEGIN:VCALENDAR
VERSION:2.0
CALSCALE:GREGORIAN
PRODID:-//MyApp//Calendar 1.0//EN
BEGIN:VEVENT
METHOD:PUBLISH
UID:65045@regionalniportaly.cz
DTSTAMP:20260421T092238Z
DTSTART;VALUE=DATE:20260502
DTEND;VALUE=DATE:20260503
SUMMARY:Po zapomenuté železnici k Orlické přehradě
DESCRIPTION:
LOCATION:Tochovice
END:VEVENT
END:VCALENDAR