BEGIN:VCALENDAR
VERSION:2.0
CALSCALE:GREGORIAN
PRODID:-//MyApp//Calendar 1.0//EN
BEGIN:VEVENT
METHOD:PUBLISH
UID:65680@regionalniportaly.cz
DTSTAMP:20260421T123959Z
DTSTART;VALUE=DATE:20260515
DTEND;VALUE=DATE:20260516
SUMMARY:Mezinárodní den rodiny a zdravotníků
DESCRIPTION:V pátek 15. května od 15:00 hodin bude u sportovní haly v Dobříši připraveno několik kreativních dílen a workshopů\,kde si děti i dospělí budou moci vyzkoušet různé formy tvoření. Speciální stanoviště nabídne setkání s Dubovými mužíčky ve spolupráci s autorem známých Dubánků\, Rodinným centrem Dobříšek a časopisy Puntík a Tečka. Návštěvníci se mohou zapojit také do originální stezky s úkoly.\nDalší dílny nabídnou tvoření se dřevem – vyrábět se budou originální fotorámečky\, cedulky nebo dřevěné obrázky s vlnou. Připraven bude i velký papírový workshop pro malé i větší děti\, kde vzniknou kytičky\, sluníčka\, zvířátka i další dekorace. Dílnička „Veselých kuchařů“ pak umožní ozdobit si vlastní perníček.\n \nSoučástí programu bude také stanoviště Zdravotnické záchranné služby Středočeského kraje. Návštěvníci si budou moci prohlédnout sanitku i záchranářské vybavení\, setkat se přímo se záchranáři.\n \nVelkou novinkou letošní akce bude Fotobedna.cz – moderní fotokoutek využívající umělou inteligenci. Každý si bude moci zdarma odnést neomezený počet vytištěných fotografií. Díky různým rekvizitám a efektům se návštěvníci mohou proměnit například v superhrdiny\, vladaře\, motorkáře\, kosmonauty nebo hvězdy titulní strany legendárního časopisu BRAVO.\n \nChybět nebude ani oblíbená velká nafukovací skluzavka\, otevřené bude Rákosníčkovo hřiště a připraveno je i nové 3D malování na obličej. O hudební doprovod se postará živá hudba v podání Teri Štěpánové.\nA občerstvení? Pro děti limo\, pro dospělé pivo zdarma. Novinkou budou také originální malované palačinky\, které budou k dispozici bez omezení a zdarma. Chybět nebude ani cukrová vata a popcorn ve speciálních menších porcích za symbolickou cenu.\n 
LOCATION:Dobříš
END:VEVENT
END:VCALENDAR