BEGIN:VCALENDAR
VERSION:2.0
CALSCALE:GREGORIAN
PRODID:-//MyApp//Calendar 1.0//EN
BEGIN:VEVENT
METHOD:PUBLISH
UID:65697@regionalniportaly.cz
DTSTAMP:20260421T192812Z
DTSTART;VALUE=DATE:20260612
DTEND;VALUE=DATE:20260613
SUMMARY:Kabinet + FuARTet
DESCRIPTION:Art rock + Fusion music sessionKABINET -Rocková formace z Brna s vlastním repertoárem\, prolínáním žánrů a neotřelými texty v češtině.Kabinet – jako ten školní\, plný starých map a podivností\, jako dobré pití pro pozdní večery nebo jako bedna s hlasitým reproduktorem.FuARTTet -Instrumentální quartet\, hrající výhradně vlastní skladby\, funkové rytmy\, rockovou kytaru\, bohatý syntetizátor\, stylově od country přes funky po jazz\, prostě fusion stylů.&nbsp\;
LOCATION:Brno
END:VEVENT
END:VCALENDAR