BEGIN:VCALENDAR
VERSION:2.0
CALSCALE:GREGORIAN
PRODID:-//MyApp//Calendar 1.0//EN
BEGIN:VEVENT
METHOD:PUBLISH
UID:65732@regionalniportaly.cz
DTSTAMP:20260422T075023Z
DTSTART;VALUE=DATE:20260517
DTEND;VALUE=DATE:20260518
SUMMARY:Mezi Kameny 2026
DESCRIPTION:Mezi Kameny 2026 | rodinný minifestival v PetrovicíchPřijďte zažít den\, na který se nezapomíná.Den plný radosti a&nbsp\;společných&nbsp\;zážitků.Mezi kameny je oslavou rodiny&nbsp\;👨‍👩‍👧‍👦Malý&nbsp\;manifest&nbsp\;rodiny.Dnem\, kdy si rodiny odnesou víc než jen program\,&nbsp\;ale především nespočet společných&nbsp\;nezapomenutelných&nbsp\;zážitků.🤝 Spojuje v sobě myšlenku důležitosti rodiny jako základního stavebního kamene komunity i celé společnosti. Právě rodiny dávají život místům\, kde žijeme - obcím\, městům i sousedstvím. Díky nim vzniká smích na hřištích\, setkávání na náměstích a&nbsp\;aktivní život v našich obcích.📅 17. května 2026📍 Zámecký park Petrovice⏰ Celodenní programNa co se můžete těšit?Nadupaný program\, který nadchne malé i velké:🧗 Vysoká lezecká stěna🎪 Dobrodružné hřiště&nbsp\;🎩 Kouzelnická show se&nbsp\;psem🦜 Papouščí&nbsp\;show🎶 Kapela Spoluznít🎈 Balónkář🎨 Obličejové malůvky🫧 Bublinková dílna👶 Herničkolka&nbsp\;🎨 Art zóna🏰 Skákací hrady🪩 Diskotéka😎 Chill zóna&nbsp\;A další drobná překvapení\, která budeme postupně odhalovat…Pro koho je festival určen?✅ Pro rodiny s dětmi všech věkových kategorií.✅ Pro rodiče\, kteří chtějí zažít společný čas jinak než obvykle.✅ Pro děti\, které milují pohyb\, tvoření a dobrodružství.✅ A pro všechny\, kteří věří\, že nejkrásnější zážitky vznikají\, když jsme spolu.Přijďte být součástí prvního ročníku.&nbsp\;Buďte u toho s námi! 🫵Možná právě tady vznikne nová tradice.Možná právě tady vzniknou vzpomínky\, na které budete ještě dlouho vzpomínat.Těšíme se na vás Mezi Kameny&nbsp\;🪨
LOCATION:Petrovice
END:VEVENT
END:VCALENDAR